BEGIN:VCALENDAR
VERSION:2.0
PRODID:spatie/icalendar-generator
DESCRIPTION:Events from Master Gardeners of Cuyahoga County
X-WR-CALDESC:Events from Master Gardeners of Cuyahoga County
REFRESH-INTERVAL;VALUE=DURATION:PT1440M
X-PUBLISHED-TTL:PT1440M
BEGIN:VTIMEZONE
TZID:America/New_York
BEGIN:STANDARD
DTSTART:20251102T020000Z
TZOFFSETFROM:-0400
TZOFFSETTO:-0500
END:STANDARD
BEGIN:DAYLIGHT
DTSTART:20260308T020000Z
TZOFFSETFROM:-0500
TZOFFSETTO:-0400
END:DAYLIGHT
END:VTIMEZONE
BEGIN:VTIMEZONE
TZID:UTC
BEGIN:STANDARD
DTSTART:20250725T232548Z
TZOFFSETFROM:+0000
TZOFFSETTO:+0000
END:STANDARD
END:VTIMEZONE
BEGIN:VEVENT
UID:319-289
DTSTAMP:20260421T232548Z
SUMMARY:How to Multiply and Divide Perennials to Gain Free Plants
LOCATION:Strongsville Branch Cuyahoga Library  18700 Westwood Drive  Strong
 sville OH 44136
ORGANIZER;CN=Master Gardener:MAILTO:mgcc2.treasurer@gmail.com
DTSTART;TZID=America/New_York:20260420T190000
DTEND;TZID=America/New_York:20260420T200000
X-ALT-DESC;FMTTYPE=TEXT/HTML:Learn how to multiply your perennials - for fr
 ee! A representative from Master Gardeners of Cuyahoga County will share t
 his presentation on when and how to divide perennials. Shocked at the pric
 e of new perennial garden centers this year? Master Gardeners of Cuyahoga 
 County will help you fight inflation by teaching you how to create&amp;hellip\
 ;
CATEGORIES:Library Talks,  General
URL;VALUE=URI:https://cuyahogamg.org/mc-events/how-to-multiply-and-divide-p
 erennials-to-gain-free-plants/
METHOD:PUBLISH
END:VEVENT
END:VCALENDAR