BEGIN:VCALENDAR
VERSION:2.0
PRODID:spatie/icalendar-generator
DESCRIPTION:Events from Master Gardeners of Cuyahoga County
X-WR-CALDESC:Events from Master Gardeners of Cuyahoga County
REFRESH-INTERVAL;VALUE=DURATION:PT1440M
X-PUBLISHED-TTL:PT1440M
BEGIN:VTIMEZONE
TZID:America/New_York
BEGIN:STANDARD
DTSTART:20251102T020000Z
TZOFFSETFROM:-0400
TZOFFSETTO:-0500
END:STANDARD
BEGIN:DAYLIGHT
DTSTART:20260308T020000Z
TZOFFSETFROM:-0500
TZOFFSETTO:-0400
END:DAYLIGHT
BEGIN:STANDARD
DTSTART:20261101T020000Z
TZOFFSETFROM:-0400
TZOFFSETTO:-0500
END:STANDARD
END:VTIMEZONE
BEGIN:VTIMEZONE
TZID:UTC
BEGIN:STANDARD
DTSTART:20250725T213231Z
TZOFFSETFROM:+0000
TZOFFSETTO:+0000
END:STANDARD
END:VTIMEZONE
BEGIN:VEVENT
UID:411-282
DTSTAMP:20260421T213231Z
SUMMARY:Plants in the Park Plant Sale
LOCATION:Kiwanis Pavilion 6363 Selig Dr  Independence Ohio 44131
ORGANIZER;CN=Master Gardener:MAILTO:mgcc2.treasurer@gmail.com
DTSTART;TZID=America/New_York:20260530T083000
DTEND;TZID=America/New_York:20260530T130000
X-ALT-DESC;FMTTYPE=TEXT/HTML:Come the best and biggest plant sale in Northe
 ast Ohio! Native plants for pollinators Perennials\, vegetables\, herbs\, 
 and annuals Trees and shrubs New plants stocked all day long Great prices!
 !! Expert help finding the perfect plant Have your gardening questions ans
 wered by a Master Gardener Volunteer! Featuring a raffle with garden arts\
 , unusual plants\, and&amp;hellip\;
CATEGORIES:General
URL;VALUE=URI:https://cuyahogamg.org/mc-events/plants-in-the-park-plant-sal
 e-2/
METHOD:PUBLISH
END:VEVENT
END:VCALENDAR