BEGIN:VCALENDAR
VERSION:2.0
PRODID:spatie/icalendar-generator
DESCRIPTION:Events from Master Gardeners of Cuyahoga County
X-WR-CALDESC:Events from Master Gardeners of Cuyahoga County
REFRESH-INTERVAL;VALUE=DURATION:PT1440M
X-PUBLISHED-TTL:PT1440M
BEGIN:VTIMEZONE
TZID:America/New_York
BEGIN:STANDARD
DTSTART:20251102T020000Z
TZOFFSETFROM:-0400
TZOFFSETTO:-0500
END:STANDARD
BEGIN:DAYLIGHT
DTSTART:20260308T020000Z
TZOFFSETFROM:-0500
TZOFFSETTO:-0400
END:DAYLIGHT
BEGIN:STANDARD
DTSTART:20261101T020000Z
TZOFFSETFROM:-0400
TZOFFSETTO:-0500
END:STANDARD
END:VTIMEZONE
BEGIN:VTIMEZONE
TZID:UTC
BEGIN:STANDARD
DTSTART:20250725T195756Z
TZOFFSETFROM:+0000
TZOFFSETTO:+0000
END:STANDARD
END:VTIMEZONE
BEGIN:VEVENT
UID:410-284
DTSTAMP:20260421T195756Z
SUMMARY:Plants in the Park - PRE SALE
LOCATION:Kiwanis Pavilion 6363 Selig Dr  Independence Ohio 44131
ORGANIZER;CN=Master Gardener:MAILTO:mgcc2.treasurer@gmail.com
DTSTART;TZID=America/New_York:20260529T163000
DTEND;TZID=America/New_York:20260529T190000
X-ALT-DESC;FMTTYPE=TEXT/HTML:For only $20.00\, be the first to shop our exp
 anded selection of native plants\, perennials\, vegetables\, and herbs. Re
 gistration required – register HERE
CATEGORIES:General
URL;VALUE=URI:https://cuyahogamg.org/mc-events/plants-in-the-park-pre-sale/
METHOD:PUBLISH
END:VEVENT
END:VCALENDAR