BEGIN:VCALENDAR
VERSION:2.0
PRODID:spatie/icalendar-generator
DESCRIPTION:Events from Master Gardeners of Cuyahoga County
X-WR-CALDESC:Events from Master Gardeners of Cuyahoga County
REFRESH-INTERVAL;VALUE=DURATION:PT1440M
X-PUBLISHED-TTL:PT1440M
BEGIN:VTIMEZONE
TZID:America/New_York
BEGIN:STANDARD
DTSTART:20251102T020000Z
TZOFFSETFROM:-0400
TZOFFSETTO:-0500
END:STANDARD
BEGIN:DAYLIGHT
DTSTART:20260308T020000Z
TZOFFSETFROM:-0500
TZOFFSETTO:-0400
END:DAYLIGHT
END:VTIMEZONE
BEGIN:VTIMEZONE
TZID:UTC
BEGIN:STANDARD
DTSTART:20250725T143247Z
TZOFFSETFROM:+0000
TZOFFSETTO:+0000
END:STANDARD
END:VTIMEZONE
BEGIN:VEVENT
UID:330-302
DTSTAMP:20260421T143247Z
SUMMARY:Topic Tuesday - Container Vegetable Gardening
LOCATION:University Heights\, Heights Libraries 13866 Cedar Rd  University 
 Heights  OH
ORGANIZER;CN=Master Gardener:MAILTO:mgcc2.treasurer@gmail.com
DTSTART;TZID=America/New_York:20260407T150000
DTEND;TZID=America/New_York:20260407T160000
X-ALT-DESC;FMTTYPE=TEXT/HTML:Vegetables growing just outside your door is e
 asy and fun! Learn how to grow your favorite vegetables in containers–ev
 en potatoes! Choosing the right containers\, proper soil\, watering\, and 
 much more are part of this presentation. More information &amp;amp\; registrat
 ion HERE. Registration opens March 24. Topic Tuesday is a weekly program 
 that will either have a speaker\,&amp;hellip\;
CATEGORIES:Library Talks,  General
URL;VALUE=URI:https://cuyahogamg.org/mc-events/topic-tuesday-container-vege
 table-gardening/
METHOD:PUBLISH
END:VEVENT
END:VCALENDAR