BEGIN:VCALENDAR
VERSION:2.0
PRODID:spatie/icalendar-generator
DESCRIPTION:Events from Master Gardeners of Cuyahoga County
X-WR-CALDESC:Events from Master Gardeners of Cuyahoga County
REFRESH-INTERVAL;VALUE=DURATION:PT1440M
X-PUBLISHED-TTL:PT1440M
BEGIN:VTIMEZONE
TZID:America/New_York
BEGIN:STANDARD
DTSTART:20251102T020000Z
TZOFFSETFROM:-0400
TZOFFSETTO:-0500
END:STANDARD
BEGIN:DAYLIGHT
DTSTART:20260308T020000Z
TZOFFSETFROM:-0500
TZOFFSETTO:-0400
END:DAYLIGHT
END:VTIMEZONE
BEGIN:VTIMEZONE
TZID:UTC
BEGIN:STANDARD
DTSTART:20250725T160540Z
TZOFFSETFROM:+0000
TZOFFSETTO:+0000
END:STANDARD
END:VTIMEZONE
BEGIN:VEVENT
UID:325-297
DTSTAMP:20260421T160540Z
SUMMARY:How to Multiply and Divide Perennials to Gain Free Plants
LOCATION:North Royalton Branch Cuyahoga Library  5071 Wallings Road  North 
 Royalton  OH 44133
ORGANIZER;CN=Master Gardener:MAILTO:mgcc2.treasurer@gmail.com
DTSTART;TZID=America/New_York:20260408T190000
DTEND;TZID=America/New_York:20260408T200000
X-ALT-DESC;FMTTYPE=TEXT/HTML:Think spring as The Master Gardeners of Cuyaho
 ga County help you fight inflation by teaching you how to create new plant
 s from those you already own. Shocked at the price of new perennial garden
  centers this year? The Master Gardeners of Cuyahoga County will help you 
 fight inflation by teaching you how to create new&amp;hellip\;
CATEGORIES:Library Talks,  General
URL;VALUE=URI:https://cuyahogamg.org/mc-events/how-to-multiply-and-divide-p
 erennials-to-gain-free-plants-4/
METHOD:PUBLISH
END:VEVENT
END:VCALENDAR