BEGIN:VCALENDAR
VERSION:2.0
PRODID:spatie/icalendar-generator
DESCRIPTION:Events from Master Gardeners of Cuyahoga County
X-WR-CALDESC:Events from Master Gardeners of Cuyahoga County
REFRESH-INTERVAL;VALUE=DURATION:PT1440M
X-PUBLISHED-TTL:PT1440M
BEGIN:VTIMEZONE
TZID:America/New_York
BEGIN:STANDARD
DTSTART:20251102T020000Z
TZOFFSETFROM:-0400
TZOFFSETTO:-0500
END:STANDARD
BEGIN:DAYLIGHT
DTSTART:20260308T020000Z
TZOFFSETFROM:-0500
TZOFFSETTO:-0400
END:DAYLIGHT
END:VTIMEZONE
BEGIN:VTIMEZONE
TZID:UTC
BEGIN:STANDARD
DTSTART:20250723T132144Z
TZOFFSETFROM:+0000
TZOFFSETTO:+0000
END:STANDARD
END:VTIMEZONE
BEGIN:VEVENT
UID:323-295
DTSTAMP:20260419T132144Z
SUMMARY:How to Multiply and Divide Perennials
LOCATION:Bay Village Branch - Cuyahoga County Public Library  27400 Wolf Ro
 ad  Bay Village OH 44140
ORGANIZER;CN=Master Gardener:MAILTO:mgcc2.treasurer@gmail.com
DTSTART;TZID=America/New_York:20260312T190000
DTEND;TZID=America/New_York:20260312T200000
X-ALT-DESC;FMTTYPE=TEXT/HTML:How to Multiply and Divide Perennials to Gain 
 Free Plants Shocked at the price of a new perennial at the garden center
 s this year?   Master Gardeners will help you fight inflation by teachin
 g you how to create new plants from those you already own.   This present
 ation will focus on when and how to divide perennials\, how&amp;hellip\;
CATEGORIES:Library Talks,  General
URL;VALUE=URI:https://cuyahogamg.org/mc-events/how-to-multiply-and-divide-p
 erennials/
METHOD:PUBLISH
END:VEVENT
END:VCALENDAR