BEGIN:VCALENDAR
VERSION:2.0
PRODID:spatie/icalendar-generator
DESCRIPTION:Events from Master Gardeners of Cuyahoga County
X-WR-CALDESC:Events from Master Gardeners of Cuyahoga County
REFRESH-INTERVAL;VALUE=DURATION:PT1440M
X-PUBLISHED-TTL:PT1440M
BEGIN:VTIMEZONE
TZID:America/New_York
BEGIN:STANDARD
DTSTART:20251102T020000Z
TZOFFSETFROM:-0400
TZOFFSETTO:-0500
END:STANDARD
BEGIN:DAYLIGHT
DTSTART:20260308T020000Z
TZOFFSETFROM:-0500
TZOFFSETTO:-0400
END:DAYLIGHT
END:VTIMEZONE
BEGIN:VTIMEZONE
TZID:UTC
BEGIN:STANDARD
DTSTART:20250725T175713Z
TZOFFSETFROM:+0000
TZOFFSETTO:+0000
END:STANDARD
END:VTIMEZONE
BEGIN:VEVENT
UID:320-292
DTSTAMP:20260421T175713Z
SUMMARY:Divide and Multiply Perennials
LOCATION:Solon Branch Cuyahoga  Public Library  34125 Portz Parkway  Solon 
  OH 44139
ORGANIZER;CN=Master Gardener:MAILTO:mgcc2.treasurer@gmail.com
DTSTART;TZID=America/New_York:20260409T190000
DTEND;TZID=America/New_York:20260409T200000
X-ALT-DESC;FMTTYPE=TEXT/HTML:Free plants are the best plants! Learn how and
  when to divide the perennials you already have. Shocked at the price of n
 ew perennial garden centers this year?  Master Gardeners of Cuyahoga Coun
 ty will help you fight inflation by teaching you how to create new plants 
 from those you already own.  This presentation will focus&amp;hellip\;
CATEGORIES:Library Talks,  General
URL;VALUE=URI:https://cuyahogamg.org/mc-events/divide-and-multiply-perennia
 ls/
METHOD:PUBLISH
END:VEVENT
END:VCALENDAR