BEGIN:VCALENDAR
VERSION:2.0
PRODID:spatie/icalendar-generator
DESCRIPTION:Events from Master Gardeners of Cuyahoga County
X-WR-CALDESC:Events from Master Gardeners of Cuyahoga County
REFRESH-INTERVAL;VALUE=DURATION:PT1440M
X-PUBLISHED-TTL:PT1440M
BEGIN:VTIMEZONE
TZID:America/New_York
BEGIN:STANDARD
DTSTART:20251102T020000Z
TZOFFSETFROM:-0400
TZOFFSETTO:-0500
END:STANDARD
BEGIN:DAYLIGHT
DTSTART:20260308T020000Z
TZOFFSETFROM:-0500
TZOFFSETTO:-0400
END:DAYLIGHT
BEGIN:STANDARD
DTSTART:20261101T020000Z
TZOFFSETFROM:-0400
TZOFFSETTO:-0500
END:STANDARD
END:VTIMEZONE
BEGIN:VTIMEZONE
TZID:UTC
BEGIN:STANDARD
DTSTART:20250725T235048Z
TZOFFSETFROM:+0000
TZOFFSETTO:+0000
END:STANDARD
END:VTIMEZONE
BEGIN:VEVENT
UID:317-290
DTSTAMP:20260421T235048Z
SUMMARY:How to multiply and divide perennials to gain free plants
LOCATION:Brecksville Branch Cuyahoga Library  9089 Brecksville Road  Brecks
 ville OH 44141
ORGANIZER;CN=Master Gardener:MAILTO:mgcc2.treasurer@gmail.com
DTSTART;TZID=America/New_York:20260604T190000
DTEND;TZID=America/New_York:20260604T200000
X-ALT-DESC;FMTTYPE=TEXT/HTML:Learn how to multiply your perennials - for fr
 ee! Shocked at the price of new perennial garden centers this year?  Mast
 er Gardeners of Cuyahoga County will help you fight inflation by teaching 
 you how to create new plants from those you already own.  This presentati
 on will focus on when and how to divide perennials\, how&amp;hellip\;
CATEGORIES:Library Talks,  General
URL;VALUE=URI:https://cuyahogamg.org/mc-events/how-to-multiply-and-divide-p
 erennials-to-gain-free-plants-2/
METHOD:PUBLISH
END:VEVENT
END:VCALENDAR